BEGIN:VCALENDAR
PRODID:-//github.com/rianjs/ical.net//NONSGML ical.net 4.0//EN
VERSION:2.0
BEGIN:VEVENT
DESCRIPTION:Läs mer här om hur du kan ta del av Kuponghäftet!
DTEND:20260517T235959
DTSTAMP:20260425T142411Z
DTSTART;VALUE=DATE:20260424
SEQUENCE:0
SUMMARY:Vårens Kuponghäfte
UID:161f1344-e752-46f3-9f68-c0d10ec86109
END:VEVENT
END:VCALENDAR
